BEGIN:VCALENDAR
VERSION:2.0
PRODID:-//Keep Moving Forward Consulting - ECPv6.15.20//NONSGML v1.0//EN
CALSCALE:GREGORIAN
METHOD:PUBLISH
X-WR-CALNAME:Keep Moving Forward Consulting
X-ORIGINAL-URL:https://kmfconsults.com
X-WR-CALDESC:Events for Keep Moving Forward Consulting
REFRESH-INTERVAL;VALUE=DURATION:PT1H
X-Robots-Tag:noindex
X-PUBLISHED-TTL:PT1H
BEGIN:VTIMEZONE
TZID:America/New_York
BEGIN:DAYLIGHT
TZOFFSETFROM:-0500
TZOFFSETTO:-0400
TZNAME:EDT
DTSTART:20240310T070000
END:DAYLIGHT
BEGIN:STANDARD
TZOFFSETFROM:-0400
TZOFFSETTO:-0500
TZNAME:EST
DTSTART:20241103T060000
END:STANDARD
BEGIN:DAYLIGHT
TZOFFSETFROM:-0500
TZOFFSETTO:-0400
TZNAME:EDT
DTSTART:20250309T070000
END:DAYLIGHT
BEGIN:STANDARD
TZOFFSETFROM:-0400
TZOFFSETTO:-0500
TZNAME:EST
DTSTART:20251102T060000
END:STANDARD
BEGIN:DAYLIGHT
TZOFFSETFROM:-0500
TZOFFSETTO:-0400
TZNAME:EDT
DTSTART:20260308T070000
END:DAYLIGHT
BEGIN:STANDARD
TZOFFSETFROM:-0400
TZOFFSETTO:-0500
TZNAME:EST
DTSTART:20261101T060000
END:STANDARD
END:VTIMEZONE
BEGIN:VEVENT
DTSTART;TZID=America/New_York:20251115T120000
DTEND;TZID=America/New_York:20251115T140000
DTSTAMP:20260423T202048
CREATED:20251014T110855Z
LAST-MODIFIED:20251030T102757Z
UID:194-1763208000-1763215200@kmfconsults.com
SUMMARY:Moving Forward Together: A Caregiver Connection Event 
DESCRIPTION:Come join us at the Winter Park Community Center for a day of connection\, support\, and resources for caregivers like you! This in-person event is all about bringing caregivers together to share experiences\, learn from experts\, and build a community of support. Whether you’re caring for a parent\, a child\, or a loved one\, this event is for you. Connect with others who understand the challenges and rewards of caregiving\, and leave feeling inspired and empowered. Don’t miss out on this opportunity to come together and move forward as caregivers\, united in strength and support.\n\n\nhttps://www.eventbrite.com/e/moving-forward-together-a-caregiver-connection-event-tickets-1831148858529?aff=oddtdtcreator\n\n\n\nNovember 15\, 2025 12 pm – 2 pm\nLocation: The Winter Park Community Center 721 W. New England Avenue\, Winter Park\, Florida 32789\n\nEmail: kmfconsults@gmail.com\nPhone:813-922-5335\nInstagram: @kmf_consulting
URL:https://kmfconsults.com/event/moving-forward-together-a-caregiver-connection-event/
LOCATION:The Winter Park Community Center \, 721 W. New England Avenue\, Winter Park\, FL\, 32789\, United States
ATTACH;FMTTYPE=image/jpeg:https://kmfconsults.com/wp-content/uploads/2025/09/KMF-Logo_Full-Color.jpg
END:VEVENT
END:VCALENDAR