BEGIN:VCALENDAR
VERSION:2.0
PRODID:-//Keep Moving Forward Consulting - ECPv6.15.20//NONSGML v1.0//EN
CALSCALE:GREGORIAN
METHOD:PUBLISH
X-WR-CALNAME:Keep Moving Forward Consulting
X-ORIGINAL-URL:https://kmfconsults.com
X-WR-CALDESC:Events for Keep Moving Forward Consulting
REFRESH-INTERVAL;VALUE=DURATION:PT1H
X-Robots-Tag:noindex
X-PUBLISHED-TTL:PT1H
BEGIN:VTIMEZONE
TZID:America/New_York
BEGIN:DAYLIGHT
TZOFFSETFROM:-0500
TZOFFSETTO:-0400
TZNAME:EDT
DTSTART:20250309T070000
END:DAYLIGHT
BEGIN:STANDARD
TZOFFSETFROM:-0400
TZOFFSETTO:-0500
TZNAME:EST
DTSTART:20251102T060000
END:STANDARD
BEGIN:DAYLIGHT
TZOFFSETFROM:-0500
TZOFFSETTO:-0400
TZNAME:EDT
DTSTART:20260308T070000
END:DAYLIGHT
BEGIN:STANDARD
TZOFFSETFROM:-0400
TZOFFSETTO:-0500
TZNAME:EST
DTSTART:20261101T060000
END:STANDARD
BEGIN:DAYLIGHT
TZOFFSETFROM:-0500
TZOFFSETTO:-0400
TZNAME:EDT
DTSTART:20270314T070000
END:DAYLIGHT
BEGIN:STANDARD
TZOFFSETFROM:-0400
TZOFFSETTO:-0500
TZNAME:EST
DTSTART:20271107T060000
END:STANDARD
END:VTIMEZONE
BEGIN:VEVENT
DTSTART;TZID=America/New_York:20260506T183000
DTEND;TZID=America/New_York:20260506T193000
DTSTAMP:20260423T070745
CREATED:20260331T103841Z
LAST-MODIFIED:20260331T103841Z
UID:211-1778092200-1778095800@kmfconsults.com
SUMMARY:AARP FL Caregiving (Virtual event) 
DESCRIPTION:AARP FL Caregiving (Virtual event) \nWebinar: Moving Forward Together – Mental Health\, Self-Care\, and Support Strategies\n\n\nTime: May 6th\, 6:30 pm – 7:30 pm\n\nRegistration Link: https://events.aarp.org/qNav1M \n\nEvent Description: Whether you’ve chosen the word caregiver as a title or not\, this workshop invites you to validate your experience within a community that understands the challenges that often accompany this journey. Participants will explore mindset while learning actionable coping strategies to manage stress\, anxiety\, and the emotional weight of caregiving. The session will also introduce a holistic self-care framework that includes emotional\, physical\, and financial wellness\, helping caregivers reduce their mental load through practical planning and support. Join us for an interactive conversation that prioritizes your health and well-being while providing tools to help you navigate the caregiving journey with confidence.
URL:https://kmfconsults.com/event/aarp-fl-caregiving-virtual-event/
ATTACH;FMTTYPE=image/jpeg:https://kmfconsults.com/wp-content/uploads/2026/03/AARP-FL-KMF-5.06.jpg
END:VEVENT
END:VCALENDAR